BEGIN:VCALENDAR
VERSION:2.0
PRODID:-//Taber Creek - ECPv6.15.20//NONSGML v1.0//EN
CALSCALE:GREGORIAN
METHOD:PUBLISH
X-WR-CALNAME:Taber Creek
X-ORIGINAL-URL:http://www.tabercreek.com
X-WR-CALDESC:Events for Taber Creek
REFRESH-INTERVAL;VALUE=DURATION:PT1H
X-Robots-Tag:noindex
X-PUBLISHED-TTL:PT1H
BEGIN:VTIMEZONE
TZID:America/New_York
BEGIN:DAYLIGHT
TZOFFSETFROM:-0500
TZOFFSETTO:-0400
TZNAME:EDT
DTSTART:20250309T070000
END:DAYLIGHT
BEGIN:STANDARD
TZOFFSETFROM:-0400
TZOFFSETTO:-0500
TZNAME:EST
DTSTART:20251102T060000
END:STANDARD
BEGIN:DAYLIGHT
TZOFFSETFROM:-0500
TZOFFSETTO:-0400
TZNAME:EDT
DTSTART:20260308T070000
END:DAYLIGHT
BEGIN:STANDARD
TZOFFSETFROM:-0400
TZOFFSETTO:-0500
TZNAME:EST
DTSTART:20261101T060000
END:STANDARD
BEGIN:DAYLIGHT
TZOFFSETFROM:-0500
TZOFFSETTO:-0400
TZNAME:EDT
DTSTART:20270314T070000
END:DAYLIGHT
BEGIN:STANDARD
TZOFFSETFROM:-0400
TZOFFSETTO:-0500
TZNAME:EST
DTSTART:20271107T060000
END:STANDARD
END:VTIMEZONE
BEGIN:VEVENT
DTSTART;TZID=America/New_York:20260529T170000
DTEND;TZID=America/New_York:20260531T170000
DTSTAMP:20260419T044158
CREATED:20251203T191219Z
LAST-MODIFIED:20251203T191219Z
UID:1036-1780074000-1780246800@www.tabercreek.com
SUMMARY:Entanglement
DESCRIPTION:A Dungeonpunk Fantasy Game of Intrigue\, Skullduggery\, and Adventure\nEntanglementLARP.com
URL:http://www.tabercreek.com/event/entanglement-10/
LOCATION:Taber Creek\, 1174 Buckley Hwy\, Union\, CT\, 06076\, United States
CATEGORIES:Entanglement,LARP
ATTACH;FMTTYPE=image/png:http://www.tabercreek.com/wp-content/uploads/2022/11/entanglement-logo-horizontal.png
ORGANIZER;CN="Red Feather Roleplaying":MAILTO:game-director@entanglementlarp.com &lt;game-director@entanglementlarp.com
END:VEVENT
BEGIN:VEVENT
DTSTART;TZID=America/New_York:20261009T170000
DTEND;TZID=America/New_York:20261011T170000
DTSTAMP:20260419T044158
CREATED:20251203T191249Z
LAST-MODIFIED:20251203T191249Z
UID:1038-1791565200-1791738000@www.tabercreek.com
SUMMARY:Entanglement
DESCRIPTION:A Dungeonpunk Fantasy Game of Intrigue\, Skullduggery\, and Adventure\nEntanglementLARP.com
URL:http://www.tabercreek.com/event/entanglement-11/
LOCATION:Taber Creek\, 1174 Buckley Hwy\, Union\, CT\, 06076\, United States
CATEGORIES:Entanglement,LARP
ATTACH;FMTTYPE=image/png:http://www.tabercreek.com/wp-content/uploads/2022/11/entanglement-logo-horizontal.png
ORGANIZER;CN="Red Feather Roleplaying":MAILTO:game-director@entanglementlarp.com &lt;game-director@entanglementlarp.com
END:VEVENT
BEGIN:VEVENT
DTSTART;TZID=America/New_York:20261127T170000
DTEND;TZID=America/New_York:20261129T170000
DTSTAMP:20260419T044158
CREATED:20251203T191347Z
LAST-MODIFIED:20251203T191347Z
UID:1040-1795798800-1795971600@www.tabercreek.com
SUMMARY:Entanglement
DESCRIPTION:A Dungeonpunk Fantasy Game of Intrigue\, Skullduggery\, and Adventure\nEntanglementLARP.com
URL:http://www.tabercreek.com/event/entanglement-12/
LOCATION:Taber Creek\, 1174 Buckley Hwy\, Union\, CT\, 06076\, United States
CATEGORIES:Entanglement,LARP
ATTACH;FMTTYPE=image/png:http://www.tabercreek.com/wp-content/uploads/2022/11/entanglement-logo-horizontal.png
ORGANIZER;CN="Red Feather Roleplaying":MAILTO:game-director@entanglementlarp.com &lt;game-director@entanglementlarp.com
END:VEVENT
END:VCALENDAR