BEGIN:VCALENDAR
VERSION:2.0
PRODID:-//Taber Creek - ECPv6.15.20//NONSGML v1.0//EN
CALSCALE:GREGORIAN
METHOD:PUBLISH
X-ORIGINAL-URL:https://www.tabercreek.com
X-WR-CALDESC:Events for Taber Creek
REFRESH-INTERVAL;VALUE=DURATION:PT1H
X-Robots-Tag:noindex
X-PUBLISHED-TTL:PT1H
BEGIN:VTIMEZONE
TZID:America/New_York
BEGIN:DAYLIGHT
TZOFFSETFROM:-0500
TZOFFSETTO:-0400
TZNAME:EDT
DTSTART:20250309T070000
END:DAYLIGHT
BEGIN:STANDARD
TZOFFSETFROM:-0400
TZOFFSETTO:-0500
TZNAME:EST
DTSTART:20251102T060000
END:STANDARD
BEGIN:DAYLIGHT
TZOFFSETFROM:-0500
TZOFFSETTO:-0400
TZNAME:EDT
DTSTART:20260308T070000
END:DAYLIGHT
BEGIN:STANDARD
TZOFFSETFROM:-0400
TZOFFSETTO:-0500
TZNAME:EST
DTSTART:20261101T060000
END:STANDARD
BEGIN:DAYLIGHT
TZOFFSETFROM:-0500
TZOFFSETTO:-0400
TZNAME:EDT
DTSTART:20270314T070000
END:DAYLIGHT
BEGIN:STANDARD
TZOFFSETFROM:-0400
TZOFFSETTO:-0500
TZNAME:EST
DTSTART:20271107T060000
END:STANDARD
END:VTIMEZONE
BEGIN:VEVENT
DTSTART;TZID=America/New_York:20260320T170000
DTEND;TZID=America/New_York:20260322T170000
DTSTAMP:20260420T073940
CREATED:20251203T185820Z
LAST-MODIFIED:20251203T185820Z
UID:1011-1774026000-1774198800@www.tabercreek.com
SUMMARY:Sustainable Collapse
DESCRIPTION:1. A stable dimension created when two disparate dimensions collapse on each other without imploding.\n2. A new New England area LARP mashing together the Fantasy and Science Fiction genres that leans heavily on the Fantasy elements while incorporating Sci-Fi aspects.
URL:https://www.tabercreek.com/event/sustainable-collapse-13/
LOCATION:Taber Creek\, 1174 Buckley Hwy\, Union\, CT\, 06076\, United States
CATEGORIES:LARP,Sustainable Collapse
ATTACH;FMTTYPE=image/png:https://www.tabercreek.com/wp-content/uploads/2022/11/Sustainable-Collapse-Logo-White-on-black.png
ORGANIZER;CN="Sojourner's Portal":MAILTO:contactus@sustainablecollapse.com
END:VEVENT
END:VCALENDAR