BEGIN:VCALENDAR
VERSION:2.0
PRODID:-//Taber Creek - ECPv6.15.20//NONSGML v1.0//EN
CALSCALE:GREGORIAN
METHOD:PUBLISH
X-WR-CALNAME:Taber Creek
X-ORIGINAL-URL:https://www.tabercreek.com
X-WR-CALDESC:Events for Taber Creek
REFRESH-INTERVAL;VALUE=DURATION:PT1H
X-Robots-Tag:noindex
X-PUBLISHED-TTL:PT1H
BEGIN:VTIMEZONE
TZID:America/New_York
BEGIN:DAYLIGHT
TZOFFSETFROM:-0500
TZOFFSETTO:-0400
TZNAME:EDT
DTSTART:20250309T070000
END:DAYLIGHT
BEGIN:STANDARD
TZOFFSETFROM:-0400
TZOFFSETTO:-0500
TZNAME:EST
DTSTART:20251102T060000
END:STANDARD
BEGIN:DAYLIGHT
TZOFFSETFROM:-0500
TZOFFSETTO:-0400
TZNAME:EDT
DTSTART:20260308T070000
END:DAYLIGHT
BEGIN:STANDARD
TZOFFSETFROM:-0400
TZOFFSETTO:-0500
TZNAME:EST
DTSTART:20261101T060000
END:STANDARD
BEGIN:DAYLIGHT
TZOFFSETFROM:-0500
TZOFFSETTO:-0400
TZNAME:EDT
DTSTART:20270314T070000
END:DAYLIGHT
BEGIN:STANDARD
TZOFFSETFROM:-0400
TZOFFSETTO:-0500
TZNAME:EST
DTSTART:20271107T060000
END:STANDARD
END:VTIMEZONE
BEGIN:VEVENT
DTSTART;TZID=America/New_York:20260327T170000
DTEND;TZID=America/New_York:20260329T170000
DTSTAMP:20260417T125003
CREATED:20251203T190357Z
LAST-MODIFIED:20251203T190357Z
UID:1015-1774630800-1774803600@www.tabercreek.com
SUMMARY:Chronicles of Ashenfall
DESCRIPTION:Chronicles of Ashenfall is an epic\, gritty\, and dark fantasy LARP taking place in New England.
URL:https://www.tabercreek.com/event/chronicles-of-ashenfall-6/
LOCATION:Taber Creek\, 1174 Buckley Hwy\, Union\, CT\, 06076\, United States
CATEGORIES:Ashenfall,LARP
ATTACH;FMTTYPE=image/png:https://www.tabercreek.com/wp-content/uploads/2024/11/ashenfall.png
END:VEVENT
END:VCALENDAR